BEGIN:VCALENDAR
VERSION:2.0
PRODID:-//wp-events-plugin.com//7.2.3.1//EN
BEGIN:VEVENT
UID:176@unitedwayfortsmith.org
DTSTART;TZID=America/Chicago:20260315T140000
DTEND;TZID=America/Chicago:20260315T160000
DTSTAMP:20260226T162825Z
URL:https://www.unitedwayfortsmith.org/events/western-arkansas-ballet-snow
 -white-tea-party/
SUMMARY:Western Arkansas Ballet Snow White Tea Party
DESCRIPTION:You are invited to join Snow White and her friends for a festiv
 e tea party on Sunday\, March 15\, 2026\, from 2:00 – 4:00 p.m. at Weste
 rn Arkansas Ballet studios located at 4701 Grand Avenue\, Fort Smith\, Ark
 ansas.  The tea party experience includes a trip to the mine cave\, an ad
 venture through the fairy forest\, and a dance party with characters from 
 “Snow White and A Midsummer Night’s Dream” ballet that will be perfo
 rmed on May 2 &amp\; 3\, 2026\, at the ArcBest Performing Arts Center in D
 owntown Fort Smith.  Tickets are $30 per child and include crafts\, food\
 , and refreshments for children ages four to ten.  Tickets are available 
 at www.waballet.org through Thursday\, March 12\, 2026.  All proceeds wil
 l benefit Western Arkansas Ballet programs that provide quality dance educ
 ation\, training\, and performance for all ages in the River Valley.  For
  more information\, contact Western Arkansas Ballet at 479-785-0152.
ATTACH;FMTTYPE=image/jpeg:https://www.unitedwayfortsmith.org/wp-content/up
 loads/2026/02/Western-Arkansas-Ballet.jpg
CATEGORIES:Non-Profit Events
END:VEVENT
BEGIN:VTIMEZONE
TZID:America/Chicago
X-LIC-LOCATION:America/Chicago
BEGIN:DAYLIGHT
DTSTART:20260308T030000
TZOFFSETFROM:-0600
TZOFFSETTO:-0500
TZNAME:CDT
END:DAYLIGHT
END:VTIMEZONE
END:VCALENDAR