BEGIN:VCALENDAR
VERSION:2.0
PRODID:-//wp-events-plugin.com//7.2.3.1//EN
BEGIN:VEVENT
UID:203@unitedwayfortsmith.org
DTSTART;TZID=America/Chicago:20260727T000000
DTEND;TZID=America/Chicago:20260731T000000
DTSTAMP:20260420T155256Z
URL:https://www.unitedwayfortsmith.org/events/western-arkansas-ballet-nutc
 racker-ballet-camp/
SUMMARY:Western Arkansas Ballet - Nutcracker Ballet Camp
DESCRIPTION:*Nutcracker Ballet Camp is for ages 5-8 and will meet from 10:0
 0 a.m. – 12:00 p.m.\, July 27-31\, 2026.  The cost is $90.\n\n*$80 if d
 ancer attends one of WAB's ballet camps in June and Nutcracker camp.\n\nAl
 l camps will be held at Western Arkansas Ballet Studios\, 4701 Grand Avenu
 e\, Fort Smith\, AR.  Registration forms are available at the studio or o
 nline at https://www.waballet.org/dance-academy/  Registration deadline f
 or all camps is Thursday\, June 4\, 2026.
CATEGORIES:Non-Profit Events
END:VEVENT
BEGIN:VTIMEZONE
TZID:America/Chicago
X-LIC-LOCATION:America/Chicago
BEGIN:DAYLIGHT
DTSTART:20260308T030000
TZOFFSETFROM:-0600
TZOFFSETTO:-0500
TZNAME:CDT
END:DAYLIGHT
END:VTIMEZONE
END:VCALENDAR