BEGIN:VCALENDAR
VERSION:2.0
PRODID:-//wp-events-plugin.com//7.2.3.1//EN
BEGIN:VEVENT
UID:202@unitedwayfortsmith.org
DTSTART;TZID=America/Chicago:20260608T000000
DTEND;TZID=America/Chicago:20260619T000000
DTSTAMP:20260420T155100Z
URL:https://www.unitedwayfortsmith.org/events/western-arkansas-ballet-danc
 e-camps/
SUMMARY:Western Arkansas Ballet - Dance Camps
DESCRIPTION:Western Arkansas Ballet\, a nonprofit dance academy\, will be h
 osting a variety of Summer Dance Camps\, June 8-19 and July 27-31\, 2026.\
 n\n*Jazz Camp is for ages 10-12 and will meet from 10:00 a.m. – 11:30 a.
 m.\, June 8-11\, 2026. The cost is $60.\n\n*Elevé Dance Workshop is for a
 ges 10-12 and will meet from 12:00 p.m. – 4:00 p.m.\, June 8-12\, 2026. 
  The Cost is $200\n\n*Combined rate of $245 (Jazz Camp + Elevé Workshop)
 \n\n*Fairy Princess Ballet Camp is for ages 4-6 and will meet from 10:00 a
 .m. – 12:00 p.m. June 15-19\, 2026.  The cost is $90.\n\n*Rhinestone Ro
 undup Ballet Camp is for ages 7-9 and will meet from 1:00 p.m. – 3:00 p.
 m.\, June 15-19\, 2026. The cost is $90.\n\nAll camps will be held at West
 ern Arkansas Ballet Studios\, 4701 Grand Avenue\, Fort Smith\, AR.  Regis
 tration forms are available at the studio or online at https://www.waballe
 t.org/dance-academy/. Registration deadline for all camps is Thursday\, Ju
 ne 4\, 2026.
CATEGORIES:Non-Profit Events
END:VEVENT
BEGIN:VTIMEZONE
TZID:America/Chicago
X-LIC-LOCATION:America/Chicago
BEGIN:DAYLIGHT
DTSTART:20260308T030000
TZOFFSETFROM:-0600
TZOFFSETTO:-0500
TZNAME:CDT
END:DAYLIGHT
END:VTIMEZONE
END:VCALENDAR