BEGIN:VCALENDAR
VERSION:2.0
PRODID:-//wp-events-plugin.com//7.2.3.1//EN
BEGIN:VEVENT
UID:13@unitedwayfortsmith.org
DTSTART;VALUE=DATE:20250627
DTEND;VALUE=DATE:20250629
DTSTAMP:20250214T162452Z
URL:https://www.unitedwayfortsmith.org/events/true-grit-bike-ride-communit
 y-services-clearinghouse/
SUMMARY:True Grit Bike Ride - Community Services Clearinghouse
DESCRIPTION:True Grit Bike Ride and 5K\n\nJune 27th and 28th @the Barracks 
 at Chaffee Crossing\n\nAll money raised goes to support the Meals for Kids
  backpack feeding program.\n\nRegister now: https://csclearinghouse.org/ 
END:VEVENT
END:VCALENDAR