BEGIN:VCALENDAR
VERSION:2.0
PRODID:-//wp-events-plugin.com//7.2.3.1//EN
BEGIN:VEVENT
UID:16@unitedwayfortsmith.org
DTSTART:20250304T221500Z
DTEND:20250305T000000Z
DTSTAMP:20250217T180059Z
URL:https://www.unitedwayfortsmith.org/events/sip-socialize-and-support-gi
 rls-inc/
SUMMARY:Sip\, Socialize and Support - Girls Inc.
DESCRIPTION:You’re Invited\nBusiness After Hours\nMarch 4th 5:15 pm – 7
 :00 pm\nArkansasBlue Welcome Center\n3501 Old Greenwood Road\, Fort Smith\
 nEnjoy an evening of networking\, food &amp\; drinks\, bingo and great\nco
 nversations with fellow professionals in the community. Bring your\nbusine
 ss card for door prize drawing &amp\; cash for 50/50/ to benefit Girls Inc
 ..\n$5 Registration Fee to benefit\nGirls Inc. of Fort Smith
CATEGORIES:Non-Profit Events
END:VEVENT
END:VCALENDAR