BEGIN:VCALENDAR
VERSION:2.0
PRODID:-//wp-events-plugin.com//7.2.3.1//EN
BEGIN:VEVENT
UID:205@unitedwayfortsmith.org
DTSTART;TZID=America/Chicago:20260606T070000
DTEND;TZID=America/Chicago:20260606T070000
DTSTAMP:20260420T161433Z
URL:https://www.unitedwayfortsmith.org/events/run-for-the-girls-5k-fort-sm
 ith-girls-shelter/
SUMMARY:Run for the Girls 5K - Fort Smith Girls Shelter
DESCRIPTION:6th Annual Run for the Girls 5K + Family Fun Carnival\n\nLace u
 p\, bring your crew\, and celebrate girl power at our most joyful run of t
 he year! High-fives\, happy miles\, and a free family-friendly carnival—
 let’s go!\n\nDate: Saturday\, June 6th\, 2026\n\nLocation: Greg Smith Ri
 ver Trail / River Park Event Building\n\n121 Riverfront Drive\, Fort Smith
 \, AR 72901\n\nCheck-In: 7:00 AM\n\nRace Start: 8:00 AM\n\nWhat to expect\
 n\nUSATF-certified 5K course\n\nProfessional chip timing\n\nFinisher medal
 s (shine on!)\n\nFREE Family Fun Carnival with games\, music\, and activit
 ies\n\nRegistration\n\n$35 includes race bib\, timing chip\, and finisher 
 medal\n\nSign up here: https://runsignup.com/Race/AR/FortSmith/RunfortheGi
 rls5KGirlsShelterofFortSmith\n\nOur Cause\n\nEvery step supports The Girls
  Shelter of Fort Smith\, a United Way Community Partner. Since opening in 
 1970\, the Shelter has grown into a long-term residential treatment facili
 ty serving girls ages 12–17\, helping them become confident\, responsibl
 e community members.\n\nQuestions?\n\nMessage us here or email us at girls
 shelterfs@gmail.com\n\nFollow the event page for packet pickup\, course in
 fo\, and carnival updates.\n\n&nbsp\;\n\nGrab your running buddy\, your ki
 ddos\, your sparkle socks—let’s run\, walk\, and party with purpose. S
 ee you at the start line!
ATTACH;FMTTYPE=image/jpeg:https://www.unitedwayfortsmith.org/wp-content/up
 loads/2026/04/Girls-Inc-Run-for-the-Girls-5K.jpg
CATEGORIES:Non-Profit Events
END:VEVENT
BEGIN:VTIMEZONE
TZID:America/Chicago
X-LIC-LOCATION:America/Chicago
BEGIN:DAYLIGHT
DTSTART:20260308T030000
TZOFFSETFROM:-0600
TZOFFSETTO:-0500
TZNAME:CDT
END:DAYLIGHT
END:VTIMEZONE
END:VCALENDAR