BEGIN:VCALENDAR
VERSION:2.0
PRODID:-//wp-events-plugin.com//7.2.3.1//EN
BEGIN:VEVENT
UID:67@unitedwayfortsmith.org
DTSTART;TZID=America/Chicago:20250606T090000
DTEND;TZID=America/Chicago:20250606T153000
DTSTAMP:20250409T144709Z
URL:https://www.unitedwayfortsmith.org/events/resilience-rising-harbor-hou
 se-inc-prevention-programs/
SUMMARY:Resilience Rising - Harbor House Inc. Prevention Programs
DESCRIPTION:Building Stronger Futures Through Prevention - Substance Use Pr
 evention Conference\nJune 6th\, 9 am - 3:30 pm\nPeak Innovation Center - 5
 900 Painter Lane\, Fort Smith\, AR\n\n&nbsp\;\n\n&nbsp\;\n\nThe event is f
 ree and open to the public\, but we do ask that people register for the ev
 ent. Our registration link is- https://www.eventbrite.com/e/resiliency-ris
 ing-prevention-conference-tickets-1291386284139?aff=oddtdtcreator
ATTACH;FMTTYPE=image/jpeg:https://www.unitedwayfortsmith.org/wp-content/up
 loads/2025/04/Prevention-Conference-Flyer.png
CATEGORIES:Non-Profit Events
LOCATION:Peak Innovation Center\, 5900 Painter Lane\, FORT SMITH\, Arkansas
 \, 72903\, United States
X-APPLE-STRUCTURED-LOCATION;VALUE=URI;X-ADDRESS=5900 Painter Lane\, FORT SM
 ITH\, Arkansas\, 72903\, United States;X-APPLE-RADIUS=100;X-TITLE=Peak Inn
 ovation Center:geo:0,0
END:VEVENT
BEGIN:VTIMEZONE
TZID:America/Chicago
X-LIC-LOCATION:America/Chicago
BEGIN:DAYLIGHT
DTSTART:20250309T030000
TZOFFSETFROM:-0600
TZOFFSETTO:-0500
TZNAME:CDT
END:DAYLIGHT
END:VTIMEZONE
END:VCALENDAR