BEGIN:VCALENDAR
VERSION:2.0
PRODID:-//wp-events-plugin.com//7.2.3.1//EN
BEGIN:VEVENT
UID:85@unitedwayfortsmith.org
DTSTART;TZID=America/Chicago:20260228T173000
DTEND;TZID=America/Chicago:20260228T233000
DTSTAMP:20250630T202739Z
URL:https://www.unitedwayfortsmith.org/events/on-call-gala/
SUMMARY:On Call Gala
DESCRIPTION:Save the Date - ACHE On Call Gala\n\nMore Details to Follow
CATEGORIES:Non-Profit Events
END:VEVENT
BEGIN:VTIMEZONE
TZID:America/Chicago
X-LIC-LOCATION:America/Chicago
BEGIN:STANDARD
DTSTART:20251102T010000
TZOFFSETFROM:-0500
TZOFFSETTO:-0600
TZNAME:CST
END:STANDARD
END:VTIMEZONE
END:VCALENDAR