BEGIN:VCALENDAR
VERSION:2.0
PRODID:-//wp-events-plugin.com//7.2.3.1//EN
BEGIN:VEVENT
UID:80@unitedwayfortsmith.org
DTSTART;TZID=America/Chicago:20250816T173000
DTEND;TZID=America/Chicago:20250816T173000
DTSTAMP:20250603T193647Z
URL:https://www.unitedwayfortsmith.org/events/boys-girls-club-of-south-log
 an-county-25th-annual-banquet/
SUMMARY:Boys & Girls Club of South Logan County 25th Annual Banquet
DESCRIPTION:Boys &amp\; Girls Club of South Logan County 25th Annual Banque
 t\n\nLocation: First Baptist Church Family Life Center\n\nSaturday\, Augus
 t 16th\n\nAuction 5:30 pm\n\nDinner 6:00 pm\n\nFor information\, contact A
 mber Mikles at amber@Bgcslc.org
ATTACH;FMTTYPE=image/jpeg:https://www.unitedwayfortsmith.org/wp-content/up
 loads/2025/06/Banquet-bgcslc.png
CATEGORIES:Non-Profit Events
END:VEVENT
BEGIN:VTIMEZONE
TZID:America/Chicago
X-LIC-LOCATION:America/Chicago
BEGIN:DAYLIGHT
DTSTART:20250309T030000
TZOFFSETFROM:-0600
TZOFFSETTO:-0500
TZNAME:CDT
END:DAYLIGHT
END:VTIMEZONE
END:VCALENDAR