BEGIN:VCALENDAR
VERSION:2.0
PRODID:-//wp-events-plugin.com//7.2.3.1//EN
BEGIN:VEVENT
UID:204@unitedwayfortsmith.org
DTSTART;TZID=America/Chicago:20260425T100000
DTEND;TZID=America/Chicago:20260425T140000
DTSTAMP:20260420T155803Z
URL:https://www.unitedwayfortsmith.org/events/arkansas-drug-take-back-day-
 harbor-house-inc/
SUMMARY:Arkansas Drug Take Back Day - Harbor House\, Inc.
DESCRIPTION:Arkansas Drug Take Back Day - April 25th\, 10 am - 2 pm\nFort S
 mith Public Library\n3201 Rogers Ave\, Fort Smith
ATTACH;FMTTYPE=image/jpeg:https://www.unitedwayfortsmith.org/wp-content/up
 loads/2026/04/Drug-Takeback-Day.jpg
CATEGORIES:Local Coalitions
END:VEVENT
BEGIN:VTIMEZONE
TZID:America/Chicago
X-LIC-LOCATION:America/Chicago
BEGIN:DAYLIGHT
DTSTART:20260308T030000
TZOFFSETFROM:-0600
TZOFFSETTO:-0500
TZNAME:CDT
END:DAYLIGHT
END:VTIMEZONE
END:VCALENDAR