BEGIN:VCALENDAR
VERSION:2.0
PRODID:-//wp-events-plugin.com//7.2.3.1//EN
BEGIN:VEVENT
UID:47@unitedwayfortsmith.org
DTSTART;TZID=America/Chicago:20250312T100000
DTEND;TZID=America/Chicago:20250312T150000
DTSTAMP:20250305T212444Z
URL:https://www.unitedwayfortsmith.org/events/arise-chance-4-change/
SUMMARY:ARISE - Chance 4 Change
DESCRIPTION:ARISE - Arkansas Reentry Integrated Support Expo\n\nKay Rogers 
 Park\n\n2200 Midland Blvd.\, Fort Smith\, AR\n\nMarch 12th\, 10:00 AM - 3:
 00 PM\n\nCenter for Arkansas Legal Services  - www.arkansaslegalservices.
 org\n\nFor Information: Chance 4 Change - Felicia Lyons 469-830-5913\n\nAr
 kansas Record Sealing\, Housing Assistance\, Mental Health Services\, Driv
 er Control\, Second Chance Job Fair\, and so much more!\n\n&nbsp\;
CATEGORIES:Non-Profit Events
END:VEVENT
BEGIN:VTIMEZONE
TZID:America/Chicago
X-LIC-LOCATION:America/Chicago
BEGIN:DAYLIGHT
DTSTART:20250309T030000
TZOFFSETFROM:-0600
TZOFFSETTO:-0500
TZNAME:CDT
END:DAYLIGHT
END:VTIMEZONE
END:VCALENDAR