BEGIN:VCALENDAR
VERSION:2.0
PRODID:-//wp-events-plugin.com//7.2.3.1//EN
BEGIN:VEVENT
UID:59@unitedwayfortsmith.org
DTSTART;TZID=America/Chicago:20250607T000000
DTEND;TZID=America/Chicago:20250607T000000
DTSTAMP:20250520T132717Z
URL:https://www.unitedwayfortsmith.org/events/arc-picnic-arc-for-the-river
 -valley/
SUMMARY:Arc Picnic - Arc for the River Valley
DESCRIPTION:The Arc Picnic will be held at their facilities at 7821 Texas R
 oad in Fort Smith\n\nFor questions or information\, contact Rileigh Richar
 dson at arcrivervalley@gmail.com\n\nMore details to come.
ATTACH;FMTTYPE=image/jpeg:https://www.unitedwayfortsmith.org/wp-content/up
 loads/2025/03/Arc-Picnic.jpg
CATEGORIES:Non-Profit Events
END:VEVENT
BEGIN:VTIMEZONE
TZID:America/Chicago
X-LIC-LOCATION:America/Chicago
BEGIN:DAYLIGHT
DTSTART:20250309T030000
TZOFFSETFROM:-0600
TZOFFSETTO:-0500
TZNAME:CDT
END:DAYLIGHT
END:VTIMEZONE
END:VCALENDAR